BEGIN:VCALENDAR
VERSION:2.0
PRODID:-//René Springer - ECPv6.14.2//NONSGML v1.0//EN
CALSCALE:GREGORIAN
METHOD:PUBLISH
X-ORIGINAL-URL:https://rene-springer.info
X-WR-CALDESC:Veranstaltungen für René Springer
REFRESH-INTERVAL;VALUE=DURATION:PT1H
X-Robots-Tag:noindex
X-PUBLISHED-TTL:PT1H
BEGIN:VTIMEZONE
TZID:Europe/Berlin
BEGIN:DAYLIGHT
TZOFFSETFROM:+0100
TZOFFSETTO:+0200
TZNAME:CEST
DTSTART:20230326T010000
END:DAYLIGHT
BEGIN:STANDARD
TZOFFSETFROM:+0200
TZOFFSETTO:+0100
TZNAME:CET
DTSTART:20231029T010000
END:STANDARD
END:VTIMEZONE
BEGIN:VEVENT
DTSTART;TZID=Europe/Berlin:20230810T180000
DTEND;TZID=Europe/Berlin:20230810T180000
DTSTAMP:20260419T185317
CREATED:20230810T093641Z
LAST-MODIFIED:20230810T093641Z
UID:2341-1691690400-1691690400@rene-springer.info
SUMMARY:2. Kommunalpolitischer Schnuppertag
DESCRIPTION:Guten Abend\, \nwenn Du Interesse hast\, Dich in unserer Heimatstadt Eberswalde kommunalpolitisch einzubringen\, bist Du herzlich zum 2. Kommunalpolitischen Schnuppertag eingeladen. \nWir werden weitere Vorschläge für unser Programm sammeln und einen interessanten Kurzvortrag zur politischen Arbeit auf kommunaler Ebene hören. \nWann: Donnerstag\, den 10. August / 18 Uhr\nWo: AfD-Bürgerbüro Eberswalde in der Grabowstraße 17 \nFür Speis und Trank wird wieder gesorgt sein. \nWenn Ihr Leute kennt\, die sich ebenfalls in Eberswalde politisch engagieren wollen\, leitet diese Nachricht gerne weiter. \nViele Grüße\nRené Springer & Tilo Weingardt
URL:https://rene-springer.info/termin/2-kommunalpolitischer-schnuppertag/
LOCATION:Bürgerbüro Eberswalde\, Grabowstraße 17\, Eberswalde\, 16225\, Deutschland
ATTACH;FMTTYPE=image/png:https://rene-springer.info/wp-content/uploads/2023/07/schnuppertag_Eberswalde_1008.png
END:VEVENT
BEGIN:VEVENT
DTSTART;TZID=Europe/Berlin:20230720T180000
DTEND;TZID=Europe/Berlin:20230720T210000
DTSTAMP:20260419T185317
CREATED:20230717T135357Z
LAST-MODIFIED:20230719T064508Z
UID:2315-1689876000-1689886800@rene-springer.info
SUMMARY:Kommunalpolitischer Schnuppertag in Eberswalde
DESCRIPTION:Du hast die Nase voll von den Altparteien? Du willst anpacken\, um unsere Heimatstadt Eberswalde voranzubringen? Dann hast Du jetzt die Möglichkeit dazu! \nIm Mai 2024 wird in Eberswalde ein neues Stadtparlament gewählt. Wir brauchen motivierte Unterstützer\, um die Interessen der Eberswalder schlagkräftig und entschlossen zu vertreten. \nWenn Du Interesse hast\, Dich einzubringen\, bist Du herzlich zum kommunalpolitischen Schnuppertag eingeladen. \nWann: Donnerstag\, den 20. Juli / 18 Uhr\nWo: AfD-Bürgerbüro Eberswalde in der Grabowstraße 17 \nWenn Ihr Leute kennt\, die sich ebenfalls in Eberswalde politisch engagieren wollen\, leitet diese Nachricht gerne weiter. \nViele Grüße\nRené Springer & Tilo Weingardt
URL:https://rene-springer.info/termin/kommunalpolitischer-schnuppertag-in-eberswalde/
LOCATION:Bürgerbüro Eberswalde\, Grabowstraße 17\, Eberswalde\, 16225\, Deutschland
CATEGORIES:Bürgerbüro
ATTACH;FMTTYPE=image/png:https://rene-springer.info/wp-content/uploads/2023/07/schnuppertag_Eberswalde.png
END:VEVENT
END:VCALENDAR